Workbook

Sheet Cuadrante
A1: Mes (1-12) | B1: 10
A2: Año | B2: 2026
A4: Persona | B4: Puesto | C4: Horas/semana | D4: =DATE($B$2,$B$1,1) | E4: =IF(D4="","",IF(MONTH(D4+1)=$B$1,D4+1,"")) | F4: =IF(E4="","",IF(MONTH(E4+1)=$B$1,E4+1,"")) | G4: =IF(F4="","",IF(MONTH(F4+1)=$B$1,F4+1,"")) | H4: =IF(G4="","",IF(MONTH(G4+1)=$B$1,G4+1,"")) | I4: =IF(H4="","",IF(MONTH(H4+1)=$B$1,H4+1,"")) | J4: =IF(I4="","",IF(MONTH(I4+1)=$B$1,I4+1,"")) | K4: =IF(J4="","",IF(MONTH(J4+1)=$B$1,J4+1,"")) | L4: =IF(K4="","",IF(MONTH(K4+1)=$B$1,K4+1,"")) | ... AH4: =IF(AG4="","",IF(MONTH(AG4+1)=$B$1,AG4+1,"")) | AI4: Horas del mes | AJ4: Días trabajados | AK4: Noches
D5: =IF(D4="","",TEXT(D4,"ddd")) | E5: =IF(E4="","",TEXT(E4,"ddd")) | F5: =IF(F4="","",TEXT(F4,"ddd")) | G5: =IF(G4="","",TEXT(G4,"ddd")) | H5: =IF(H4="","",TEXT(H4,"ddd")) | I5: =IF(I4="","",TEXT(I4,"ddd")) | J5: =IF(J4="","",TEXT(J4,"ddd")) | K5: =IF(K4="","",TEXT(K4,"ddd")) | ... AH5: =IF(AH4="","",TEXT(AH4,"ddd"))
A6: Ana | B6: Camarera | C6: 40 | AI6: =SUMPRODUCT(SUMIF('Turnos'!$A$2:$A$8,D6:AH6,'Turnos'!$E$2:$E$8)) | AJ6: =SUMPRODUCT(SUMIF('Turnos'!$A$2:$A$8,D6:AH6,'Turnos'!$F$2:$F$8)) | AK6: =COUNTIF(D6:AH6,"N")
A7: Bea | B7: Camarera | C7: 30 | AI7: =SUMPRODUCT(SUMIF('Turnos'!$A$2:$A$8,D7:AH7,'Turnos'!$E$2:$E$8)) | AJ7: =SUMPRODUCT(SUMIF('Turnos'!$A$2:$A$8,D7:AH7,'Turnos'!$F$2:$F$8)) | AK7: =COUNTIF(D7:AH7,"N")
A8: Carlos | B8: Cocinero | C8: 40 | AI8: =SUMPRODUCT(SUMIF('Turnos'!$A$2:$A$8,D8:AH8,'Turnos'!$E$2:$E$8)) | AJ8: =SUMPRODUCT(SUMIF('Turnos'!$A$2:$A$8,D8:AH8,'Turnos'!$F$2:$F$8)) | AK8: =COUNTIF(D8:AH8,"N")
A9: Diana | B9: Cocinera | C9: 20 | AI9: =SUMPRODUCT(SUMIF('Turnos'!$A$2:$A$8,D9:AH9,'Turnos'!$E$2:$E$8)) | AJ9: =SUMPRODUCT(SUMIF('Turnos'!$A$2:$A$8,D9:AH9,'Turnos'!$F$2:$F$8)) | AK9: =COUNTIF(D9:AH9,"N")
AI10: =SUMPRODUCT(SUMIF('Turnos'!$A$2:$A$8,D10:AH10,'Turnos'!$E$2:$E$8)) | AJ10: =SUMPRODUCT(SUMIF('Turnos'!$A$2:$A$8,D10:AH10,'Turnos'!$F$2:$F$8)) | AK10: =COUNTIF(D10:AH10,"N")
AI11: =SUMPRODUCT(SUMIF('Turnos'!$A$2:$A$8,D11:AH11,'Turnos'!$E$2:$E$8)) | AJ11: =SUMPRODUCT(SUMIF('Turnos'!$A$2:$A$8,D11:AH11,'Turnos'!$F$2:$F$8)) | AK11: =COUNTIF(D11:AH11,"N")
AI12: =SUMPRODUCT(SUMIF('Turnos'!$A$2:$A$8,D12:AH12,'Turnos'!$E$2:$E$8)) | AJ12: =SUMPRODUCT(SUMIF('Turnos'!$A$2:$A$8,D12:AH12,'Turnos'!$F$2:$F$8)) | AK12: =COUNTIF(D12:AH12,"N")
AI13: =SUMPRODUCT(SUMIF('Turnos'!$A$2:$A$8,D13:AH13,'Turnos'!$E$2:$E$8)) | AJ13: =SUMPRODUCT(SUMIF('Turnos'!$A$2:$A$8,D13:AH13,'Turnos'!$F$2:$F$8)) | AK13: =COUNTIF(D13:AH13,"N")
AI14: =SUMPRODUCT(SUMIF('Turnos'!$A$2:$A$8,D14:AH14,'Turnos'!$E$2:$E$8)) | AJ14: =SUMPRODUCT(SUMIF('Turnos'!$A$2:$A$8,D14:AH14,'Turnos'!$F$2:$F$8)) | AK14: =COUNTIF(D14:AH14,"N")
AI15: =SUMPRODUCT(SUMIF('Turnos'!$A$2:$A$8,D15:AH15,'Turnos'!$E$2:$E$8)) | AJ15: =SUMPRODUCT(SUMIF('Turnos'!$A$2:$A$8,D15:AH15,'Turnos'!$F$2:$F$8)) | AK15: =COUNTIF(D15:AH15,"N")
AI16: =SUMPRODUCT(SUMIF('Turnos'!$A$2:$A$8,D16:AH16,'Turnos'!$E$2:$E$8)) | AJ16: =SUMPRODUCT(SUMIF('Turnos'!$A$2:$A$8,D16:AH16,'Turnos'!$F$2:$F$8)) | AK16: =COUNTIF(D16:AH16,"N")
AI17: =SUMPRODUCT(SUMIF('Turnos'!$A$2:$A$8,D17:AH17,'Turnos'!$E$2:$E$8)) | AJ17: =SUMPRODUCT(SUMIF('Turnos'!$A$2:$A$8,D17:AH17,'Turnos'!$F$2:$F$8)) | AK17: =COUNTIF(D17:AH17,"N")

Sheet Turnos
A1: Código | B1: Nombre del turno | C1: Entrada | D1: Salida | E1: Horas | F1: ¿Cuenta como trabajado?
A2: M | B2: Mañana | C2: 07:00 | D2: 15:00 | E2: =IF(OR(C2="",D2=""),0,IF(TIMEVALUE(D2)>TIMEVALUE(C2),(TIMEVALUE(D2)-TIMEVALUE(C2))*24,(1-TIMEVALUE(C2)+TIMEVALUE(D2))*24)) | F2: =IF(E2>0,1,0)
A3: T | B3: Tarde | C3: 15:00 | D3: 23:00 | E3: =IF(OR(C3="",D3=""),0,IF(TIMEVALUE(D3)>TIMEVALUE(C3),(TIMEVALUE(D3)-TIMEVALUE(C3))*24,(1-TIMEVALUE(C3)+TIMEVALUE(D3))*24)) | F3: =IF(E3>0,1,0)
A4: N | B4: Noche | C4: 23:00 | D4: 07:00 | E4: =IF(OR(C4="",D4=""),0,IF(TIMEVALUE(D4)>TIMEVALUE(C4),(TIMEVALUE(D4)-TIMEVALUE(C4))*24,(1-TIMEVALUE(C4)+TIMEVALUE(D4))*24)) | F4: =IF(E4>0,1,0)
A5: P | B5: Partido | C5: 12:00 | D5: 16:00 | E5: =IF(OR(C5="",D5=""),0,IF(TIMEVALUE(D5)>TIMEVALUE(C5),(TIMEVALUE(D5)-TIMEVALUE(C5))*24,(1-TIMEVALUE(C5)+TIMEVALUE(D5))*24)) | F5: =IF(E5>0,1,0)
A6: L | B6: Libre | E6: =IF(OR(C6="",D6=""),0,IF(TIMEVALUE(D6)>TIMEVALUE(C6),(TIMEVALUE(D6)-TIMEVALUE(C6))*24,(1-TIMEVALUE(C6)+TIMEVALUE(D6))*24)) | F6: =IF(E6>0,1,0)
A7: V | B7: Vacaciones | E7: =IF(OR(C7="",D7=""),0,IF(TIMEVALUE(D7)>TIMEVALUE(C7),(TIMEVALUE(D7)-TIMEVALUE(C7))*24,(1-TIMEVALUE(C7)+TIMEVALUE(D7))*24)) | F7: =IF(E7>0,1,0)
A8: B | B8: Baja | E8: =IF(OR(C8="",D8=""),0,IF(TIMEVALUE(D8)>TIMEVALUE(C8),(TIMEVALUE(D8)-TIMEVALUE(C8))*24,(1-TIMEVALUE(C8)+TIMEVALUE(D8))*24)) | F8: =IF(E8>0,1,0)

Sheet Resumen
A1: Resumen del mes
A3: Persona | B3: Horas del mes | C3: Horas según contrato | D3: Diferencia | E3: Días trabajados | F3: Noches | G3: Tardes seguidas de mañana | H3: Domingos
A4: ='Cuadrante'!A6 | B4: ='Cuadrante'!AI6 | C4: =IF('Cuadrante'!C6="","",ROUND('Cuadrante'!C6/7*DAY(EOMONTH(DATE('Cuadrante'!$B$2,'Cuadrante'!$B$1,1),0)),1)) | D4: =IF(C4="","",ROUND(B4-C4,1)) | E4: ='Cuadrante'!AJ6 | F4: ='Cuadrante'!AK6 | G4: =SUMPRODUCT(('Cuadrante'!D6:AG6="T")*('Cuadrante'!E6:AH6="M")) | H4: =SUMPRODUCT((WEEKDAY('Cuadrante'!$D$4:$AH$4,2)=7)*('Cuadrante'!D6:AH6<>"")*(SUMIF('Turnos'!$A$2:$A$8,'Cuadrante'!D6:AH6,'Turnos'!$F$2:$F$8)))
A5: ='Cuadrante'!A7 | B5: ='Cuadrante'!AI7 | C5: =IF('Cuadrante'!C7="","",ROUND('Cuadrante'!C7/7*DAY(EOMONTH(DATE('Cuadrante'!$B$2,'Cuadrante'!$B$1,1),0)),1)) | D5: =IF(C5="","",ROUND(B5-C5,1)) | E5: ='Cuadrante'!AJ7 | F5: ='Cuadrante'!AK7 | G5: =SUMPRODUCT(('Cuadrante'!D7:AG7="T")*('Cuadrante'!E7:AH7="M")) | H5: =SUMPRODUCT((WEEKDAY('Cuadrante'!$D$4:$AH$4,2)=7)*('Cuadrante'!D7:AH7<>"")*(SUMIF('Turnos'!$A$2:$A$8,'Cuadrante'!D7:AH7,'Turnos'!$F$2:$F$8)))
A6: ='Cuadrante'!A8 | B6: ='Cuadrante'!AI8 | C6: =IF('Cuadrante'!C8="","",ROUND('Cuadrante'!C8/7*DAY(EOMONTH(DATE('Cuadrante'!$B$2,'Cuadrante'!$B$1,1),0)),1)) | D6: =IF(C6="","",ROUND(B6-C6,1)) | E6: ='Cuadrante'!AJ8 | F6: ='Cuadrante'!AK8 | G6: =SUMPRODUCT(('Cuadrante'!D8:AG8="T")*('Cuadrante'!E8:AH8="M")) | H6: =SUMPRODUCT((WEEKDAY('Cuadrante'!$D$4:$AH$4,2)=7)*('Cuadrante'!D8:AH8<>"")*(SUMIF('Turnos'!$A$2:$A$8,'Cuadrante'!D8:AH8,'Turnos'!$F$2:$F$8)))
A7: ='Cuadrante'!A9 | B7: ='Cuadrante'!AI9 | C7: =IF('Cuadrante'!C9="","",ROUND('Cuadrante'!C9/7*DAY(EOMONTH(DATE('Cuadrante'!$B$2,'Cuadrante'!$B$1,1),0)),1)) | D7: =IF(C7="","",ROUND(B7-C7,1)) | E7: ='Cuadrante'!AJ9 | F7: ='Cuadrante'!AK9 | G7: =SUMPRODUCT(('Cuadrante'!D9:AG9="T")*('Cuadrante'!E9:AH9="M")) | H7: =SUMPRODUCT((WEEKDAY('Cuadrante'!$D$4:$AH$4,2)=7)*('Cuadrante'!D9:AH9<>"")*(SUMIF('Turnos'!$A$2:$A$8,'Cuadrante'!D9:AH9,'Turnos'!$F$2:$F$8)))
A8: ='Cuadrante'!A10 | B8: ='Cuadrante'!AI10 | C8: =IF('Cuadrante'!C10="","",ROUND('Cuadrante'!C10/7*DAY(EOMONTH(DATE('Cuadrante'!$B$2,'Cuadrante'!$B$1,1),0)),1)) | D8: =IF(C8="","",ROUND(B8-C8,1)) | E8: ='Cuadrante'!AJ10 | F8: ='Cuadrante'!AK10 | G8: =SUMPRODUCT(('Cuadrante'!D10:AG10="T")*('Cuadrante'!E10:AH10="M")) | H8: =SUMPRODUCT((WEEKDAY('Cuadrante'!$D$4:$AH$4,2)=7)*('Cuadrante'!D10:AH10<>"")*(SUMIF('Turnos'!$A$2:$A$8,'Cuadrante'!D10:AH10,'Turnos'!$F$2:$F$8)))
A9: ='Cuadrante'!A11 | B9: ='Cuadrante'!AI11 | C9: =IF('Cuadrante'!C11="","",ROUND('Cuadrante'!C11/7*DAY(EOMONTH(DATE('Cuadrante'!$B$2,'Cuadrante'!$B$1,1),0)),1)) | D9: =IF(C9="","",ROUND(B9-C9,1)) | E9: ='Cuadrante'!AJ11 | F9: ='Cuadrante'!AK11 | G9: =SUMPRODUCT(('Cuadrante'!D11:AG11="T")*('Cuadrante'!E11:AH11="M")) | H9: =SUMPRODUCT((WEEKDAY('Cuadrante'!$D$4:$AH$4,2)=7)*('Cuadrante'!D11:AH11<>"")*(SUMIF('Turnos'!$A$2:$A$8,'Cuadrante'!D11:AH11,'Turnos'!$F$2:$F$8)))
A10: ='Cuadrante'!A12 | B10: ='Cuadrante'!AI12 | C10: =IF('Cuadrante'!C12="","",ROUND('Cuadrante'!C12/7*DAY(EOMONTH(DATE('Cuadrante'!$B$2,'Cuadrante'!$B$1,1),0)),1)) | D10: =IF(C10="","",ROUND(B10-C10,1)) | E10: ='Cuadrante'!AJ12 | F10: ='Cuadrante'!AK12 | G10: =SUMPRODUCT(('Cuadrante'!D12:AG12="T")*('Cuadrante'!E12:AH12="M")) | H10: =SUMPRODUCT((WEEKDAY('Cuadrante'!$D$4:$AH$4,2)=7)*('Cuadrante'!D12:AH12<>"")*(SUMIF('Turnos'!$A$2:$A$8,'Cuadrante'!D12:AH12,'Turnos'!$F$2:$F$8)))
A11: ='Cuadrante'!A13 | B11: ='Cuadrante'!AI13 | C11: =IF('Cuadrante'!C13="","",ROUND('Cuadrante'!C13/7*DAY(EOMONTH(DATE('Cuadrante'!$B$2,'Cuadrante'!$B$1,1),0)),1)) | D11: =IF(C11="","",ROUND(B11-C11,1)) | E11: ='Cuadrante'!AJ13 | F11: ='Cuadrante'!AK13 | G11: =SUMPRODUCT(('Cuadrante'!D13:AG13="T")*('Cuadrante'!E13:AH13="M")) | H11: =SUMPRODUCT((WEEKDAY('Cuadrante'!$D$4:$AH$4,2)=7)*('Cuadrante'!D13:AH13<>"")*(SUMIF('Turnos'!$A$2:$A$8,'Cuadrante'!D13:AH13,'Turnos'!$F$2:$F$8)))
A12: ='Cuadrante'!A14 | B12: ='Cuadrante'!AI14 | C12: =IF('Cuadrante'!C14="","",ROUND('Cuadrante'!C14/7*DAY(EOMONTH(DATE('Cuadrante'!$B$2,'Cuadrante'!$B$1,1),0)),1)) | D12: =IF(C12="","",ROUND(B12-C12,1)) | E12: ='Cuadrante'!AJ14 | F12: ='Cuadrante'!AK14 | G12: =SUMPRODUCT(('Cuadrante'!D14:AG14="T")*('Cuadrante'!E14:AH14="M")) | H12: =SUMPRODUCT((WEEKDAY('Cuadrante'!$D$4:$AH$4,2)=7)*('Cuadrante'!D14:AH14<>"")*(SUMIF('Turnos'!$A$2:$A$8,'Cuadrante'!D14:AH14,'Turnos'!$F$2:$F$8)))
A13: ='Cuadrante'!A15 | B13: ='Cuadrante'!AI15 | C13: =IF('Cuadrante'!C15="","",ROUND('Cuadrante'!C15/7*DAY(EOMONTH(DATE('Cuadrante'!$B$2,'Cuadrante'!$B$1,1),0)),1)) | D13: =IF(C13="","",ROUND(B13-C13,1)) | E13: ='Cuadrante'!AJ15 | F13: ='Cuadrante'!AK15 | G13: =SUMPRODUCT(('Cuadrante'!D15:AG15="T")*('Cuadrante'!E15:AH15="M")) | H13: =SUMPRODUCT((WEEKDAY('Cuadrante'!$D$4:$AH$4,2)=7)*('Cuadrante'!D15:AH15<>"")*(SUMIF('Turnos'!$A$2:$A$8,'Cuadrante'!D15:AH15,'Turnos'!$F$2:$F$8)))
A14: ='Cuadrante'!A16 | B14: ='Cuadrante'!AI16 | C14: =IF('Cuadrante'!C16="","",ROUND('Cuadrante'!C16/7*DAY(EOMONTH(DATE('Cuadrante'!$B$2,'Cuadrante'!$B$1,1),0)),1)) | D14: =IF(C14="","",ROUND(B14-C14,1)) | E14: ='Cuadrante'!AJ16 | F14: ='Cuadrante'!AK16 | G14: =SUMPRODUCT(('Cuadrante'!D16:AG16="T")*('Cuadrante'!E16:AH16="M")) | H14: =SUMPRODUCT((WEEKDAY('Cuadrante'!$D$4:$AH$4,2)=7)*('Cuadrante'!D16:AH16<>"")*(SUMIF('Turnos'!$A$2:$A$8,'Cuadrante'!D16:AH16,'Turnos'!$F$2:$F$8)))
A15: ='Cuadrante'!A17 | B15: ='Cuadrante'!AI17 | C15: =IF('Cuadrante'!C17="","",ROUND('Cuadrante'!C17/7*DAY(EOMONTH(DATE('Cuadrante'!$B$2,'Cuadrante'!$B$1,1),0)),1)) | D15: =IF(C15="","",ROUND(B15-C15,1)) | E15: ='Cuadrante'!AJ17 | F15: ='Cuadrante'!AK17 | G15: =SUMPRODUCT(('Cuadrante'!D17:AG17="T")*('Cuadrante'!E17:AH17="M")) | H15: =SUMPRODUCT((WEEKDAY('Cuadrante'!$D$4:$AH$4,2)=7)*('Cuadrante'!D17:AH17<>"")*(SUMIF('Turnos'!$A$2:$A$8,'Cuadrante'!D17:AH17,'Turnos'!$F$2:$F$8)))
A17: Diferencia en rojo = se pasa de contrato. La última columna cuenta las veces que alguien sale de tarde y entra a la mañana siguiente (menos de 12 horas de descanso).

Sheet Instrucciones
A2: Cómo se usa esta plantilla
A4: 1. En la hoja «Cuadrante», escribe el mes y el año en las celdas B1 y B2. Las fechas y los días de la semana se rellenan solos.
A6: 2. Escribe los nombres de tu equipo en la columna A, su puesto en la B y las horas que tiene cada uno por contrato en la C.
A8: 3. Rellena cada día con el código del turno: M, T, N, P, L, V o B. Las celdas tienen desplegable, no hace falta escribir.
A10: 4. Las horas del mes, los días trabajados y las noches se calculan solos, y el resumen avisa en rojo si alguien se pasa de contrato.
A12: 5. Si tus turnos son otros, cámbialos en la hoja «Turnos»: el resto de la plantilla se adapta sola.
A16: Lo que esta plantilla NO puede comprobar
A18: · Si dos personas del mismo puesto libran el mismo día y te quedas sin cubrir el servicio.
A20: · Si alguien supera las horas anuales, más allá del mes que estás mirando.
A22: · Si un cambio pactado entre dos compañeros se te ha olvidado apuntar.
A24: · Si el cuadrante que has publicado es el mismo que tiene tu equipo en el móvil.
A28: Sonnical (sonnical.com) hace el cuadrante por ti, avisa de todo eso antes de publicarlo y cada persona lo ve en su móvil. Gratis hasta seis empleados.
